BEGIN:VCALENDAR
VERSION:2.0
PRODID:-//ACBB - ECPv5.12.1//NONSGML v1.0//EN
CALSCALE:GREGORIAN
METHOD:PUBLISH
X-WR-CALNAME:ACBB
X-ORIGINAL-URL:https://acbbcyclo.fr
X-WR-CALDESC:évènements pour ACBB
BEGIN:VTIMEZONE
TZID:Europe/Paris
BEGIN:DAYLIGHT
TZOFFSETFROM:+0100
TZOFFSETTO:+0200
TZNAME:CEST
DTSTART:20200329T010000
END:DAYLIGHT
BEGIN:STANDARD
TZOFFSETFROM:+0200
TZOFFSETTO:+0100
TZNAME:CET
DTSTART:20201025T010000
END:STANDARD
END:VTIMEZONE
BEGIN:VEVENT
DTSTART;TZID=Europe/Paris:20200712T080000
DTEND;TZID=Europe/Paris:20200712T123000
DTSTAMP:20260422T092841
CREATED:20200312T125031Z
LAST-MODIFIED:20200625T174029Z
UID:1112-1594540800-1594557000@acbbcyclo.fr
SUMMARY:Sortie Club à 8h
DESCRIPTION:Sortie Club \nDépart 8h groupe 1 et groupe 2 devant le club 1118 rue Yves Kermen \nGroupe 3  devant La Gazelle au 49 bd Jean Jaurès
URL:https://acbbcyclo.fr/evenement/sortie-club-a-8h-7/
END:VEVENT
END:VCALENDAR